BEGIN:VCALENDAR
VERSION:2.0
PRODID:-//Paisley St George&#039;s - ECPv6.15.20//NONSGML v1.0//EN
CALSCALE:GREGORIAN
METHOD:PUBLISH
X-WR-CALNAME:Paisley St George&#039;s
X-ORIGINAL-URL:http://paisleystgeorges.org.uk
X-WR-CALDESC:Events for Paisley St George&#039;s
REFRESH-INTERVAL;VALUE=DURATION:PT1H
X-Robots-Tag:noindex
X-PUBLISHED-TTL:PT1H
BEGIN:VTIMEZONE
TZID:Europe/London
BEGIN:DAYLIGHT
TZOFFSETFROM:+0000
TZOFFSETTO:+0100
TZNAME:BST
DTSTART:20240331T010000
END:DAYLIGHT
BEGIN:STANDARD
TZOFFSETFROM:+0100
TZOFFSETTO:+0000
TZNAME:GMT
DTSTART:20241027T010000
END:STANDARD
BEGIN:DAYLIGHT
TZOFFSETFROM:+0000
TZOFFSETTO:+0100
TZNAME:BST
DTSTART:20250330T010000
END:DAYLIGHT
BEGIN:STANDARD
TZOFFSETFROM:+0100
TZOFFSETTO:+0000
TZNAME:GMT
DTSTART:20251026T010000
END:STANDARD
BEGIN:DAYLIGHT
TZOFFSETFROM:+0000
TZOFFSETTO:+0100
TZNAME:BST
DTSTART:20260329T010000
END:DAYLIGHT
BEGIN:STANDARD
TZOFFSETFROM:+0100
TZOFFSETTO:+0000
TZNAME:GMT
DTSTART:20261025T010000
END:STANDARD
END:VTIMEZONE
BEGIN:VEVENT
DTSTART;TZID=Europe/London:20251207T110000
DTEND;TZID=Europe/London:20251207T120000
DTSTAMP:20260419T154547
CREATED:20250818T093054Z
LAST-MODIFIED:20250818T093054Z
UID:7404-1765105200-1765108800@paisleystgeorges.org.uk
SUMMARY:Sunday Worship
DESCRIPTION:Worship is held on a Sunday at 11am in our Causeyside Buildings\, along with the Young Church. Available via Live Stream on YouTube
URL:http://paisleystgeorges.org.uk/event/sunday-worship-8/
LOCATION:Paisley St George’s Causeyside\, 82 Causeyside Street\, Paisley\, PA1 1YP\, United Kingdom
CATEGORIES:Worship
END:VEVENT
END:VCALENDAR