BEGIN:VCALENDAR
VERSION:2.0
PRODID:-//Paisley St George&#039;s - ECPv6.15.20//NONSGML v1.0//EN
CALSCALE:GREGORIAN
METHOD:PUBLISH
X-ORIGINAL-URL:http://paisleystgeorges.org.uk
X-WR-CALDESC:Events for Paisley St George&#039;s
REFRESH-INTERVAL;VALUE=DURATION:PT1H
X-Robots-Tag:noindex
X-PUBLISHED-TTL:PT1H
BEGIN:VTIMEZONE
TZID:Europe/London
BEGIN:DAYLIGHT
TZOFFSETFROM:+0000
TZOFFSETTO:+0100
TZNAME:BST
DTSTART:20240331T010000
END:DAYLIGHT
BEGIN:STANDARD
TZOFFSETFROM:+0100
TZOFFSETTO:+0000
TZNAME:GMT
DTSTART:20241027T010000
END:STANDARD
BEGIN:DAYLIGHT
TZOFFSETFROM:+0000
TZOFFSETTO:+0100
TZNAME:BST
DTSTART:20250330T010000
END:DAYLIGHT
BEGIN:STANDARD
TZOFFSETFROM:+0100
TZOFFSETTO:+0000
TZNAME:GMT
DTSTART:20251026T010000
END:STANDARD
BEGIN:DAYLIGHT
TZOFFSETFROM:+0000
TZOFFSETTO:+0100
TZNAME:BST
DTSTART:20260329T010000
END:DAYLIGHT
BEGIN:STANDARD
TZOFFSETFROM:+0100
TZOFFSETTO:+0000
TZNAME:GMT
DTSTART:20261025T010000
END:STANDARD
END:VTIMEZONE
BEGIN:VEVENT
DTSTART;TZID=Europe/London:20251102T110000
DTEND;TZID=Europe/London:20251102T120000
DTSTAMP:20260421T114357
CREATED:20250818T093027Z
LAST-MODIFIED:20250818T180000Z
UID:7399-1762081200-1762084800@paisleystgeorges.org.uk
SUMMARY:Sunday Worship
DESCRIPTION:Worship is held on a Sunday at 11am in our Causeyside Buildings\, along with the Young Church. Available via Live Stream on YouTube
URL:http://paisleystgeorges.org.uk/event/sunday-worship-3/
LOCATION:Paisley St George’s Causeyside\, 82 Causeyside Street\, Paisley\, PA1 1YP\, United Kingdom
CATEGORIES:Worship
END:VEVENT
BEGIN:VEVENT
DTSTART;TZID=Europe/London:20251109T110000
DTEND;TZID=Europe/London:20251109T120000
DTSTAMP:20260421T114357
CREATED:20250818T093028Z
LAST-MODIFIED:20250818T180000Z
UID:7400-1762686000-1762689600@paisleystgeorges.org.uk
SUMMARY:Sunday Worship
DESCRIPTION:Worship will begin on Sunday at 10:45am for our Rtemembrance Service in our Causeyside Buildings\, along with the Young Church. Available via Live Stream on YouTube
URL:http://paisleystgeorges.org.uk/event/sunday-worship-4/
LOCATION:Paisley St George’s Causeyside\, 82 Causeyside Street\, Paisley\, PA1 1YP\, United Kingdom
CATEGORIES:Worship
END:VEVENT
BEGIN:VEVENT
DTSTART;TZID=Europe/London:20251116T110000
DTEND;TZID=Europe/London:20251116T120000
DTSTAMP:20260421T114357
CREATED:20250818T093028Z
LAST-MODIFIED:20250818T180000Z
UID:7401-1763290800-1763294400@paisleystgeorges.org.uk
SUMMARY:Sunday Worship
DESCRIPTION:Worship is held on a Sunday at 11am in our Causeyside Buildings\, along with the Young Church. Available via Live Stream on YouTube
URL:http://paisleystgeorges.org.uk/event/sunday-worship-5/
LOCATION:Paisley St George’s Causeyside\, 82 Causeyside Street\, Paisley\, PA1 1YP\, United Kingdom
CATEGORIES:Worship
END:VEVENT
BEGIN:VEVENT
DTSTART;TZID=Europe/London:20251123T110000
DTEND;TZID=Europe/London:20251123T120000
DTSTAMP:20260421T114357
CREATED:20250818T093029Z
LAST-MODIFIED:20250818T180000Z
UID:7402-1763895600-1763899200@paisleystgeorges.org.uk
SUMMARY:Sunday Worship
DESCRIPTION:Worship is held on a Sunday at 11am in our Causeyside Buildings\, along with the Young Church. Available via Live Stream on YouTube
URL:http://paisleystgeorges.org.uk/event/sunday-worship-6/
LOCATION:Paisley St George’s Causeyside\, 82 Causeyside Street\, Paisley\, PA1 1YP\, United Kingdom
CATEGORIES:Worship
END:VEVENT
BEGIN:VEVENT
DTSTART;TZID=Europe/London:20251130T110000
DTEND;TZID=Europe/London:20251130T120000
DTSTAMP:20260421T114357
CREATED:20250818T093054Z
LAST-MODIFIED:20250818T093054Z
UID:7403-1764500400-1764504000@paisleystgeorges.org.uk
SUMMARY:Sunday Worship
DESCRIPTION:Worship is held on a Sunday at 11am in our Causeyside Buildings\, along with the Young Church. Available via Live Stream on YouTube
URL:http://paisleystgeorges.org.uk/event/sunday-worship-7/
LOCATION:Paisley St George’s Causeyside\, 82 Causeyside Street\, Paisley\, PA1 1YP\, United Kingdom
CATEGORIES:Worship
END:VEVENT
END:VCALENDAR