BEGIN:VCALENDAR
VERSION:2.0
PRODID:-//Paisley St George&#039;s - ECPv6.15.20//NONSGML v1.0//EN
CALSCALE:GREGORIAN
METHOD:PUBLISH
X-ORIGINAL-URL:http://paisleystgeorges.org.uk
X-WR-CALDESC:Events for Paisley St George&#039;s
REFRESH-INTERVAL;VALUE=DURATION:PT1H
X-Robots-Tag:noindex
X-PUBLISHED-TTL:PT1H
BEGIN:VTIMEZONE
TZID:Europe/London
BEGIN:DAYLIGHT
TZOFFSETFROM:+0000
TZOFFSETTO:+0100
TZNAME:BST
DTSTART:20250330T010000
END:DAYLIGHT
BEGIN:STANDARD
TZOFFSETFROM:+0100
TZOFFSETTO:+0000
TZNAME:GMT
DTSTART:20251026T010000
END:STANDARD
BEGIN:DAYLIGHT
TZOFFSETFROM:+0000
TZOFFSETTO:+0100
TZNAME:BST
DTSTART:20260329T010000
END:DAYLIGHT
BEGIN:STANDARD
TZOFFSETFROM:+0100
TZOFFSETTO:+0000
TZNAME:GMT
DTSTART:20261025T010000
END:STANDARD
BEGIN:DAYLIGHT
TZOFFSETFROM:+0000
TZOFFSETTO:+0100
TZNAME:BST
DTSTART:20270328T010000
END:DAYLIGHT
BEGIN:STANDARD
TZOFFSETFROM:+0100
TZOFFSETTO:+0000
TZNAME:GMT
DTSTART:20271031T010000
END:STANDARD
END:VTIMEZONE
BEGIN:VEVENT
DTSTART;TZID=Europe/London:20260310T140000
DTEND;TZID=Europe/London:20260310T153000
DTSTAMP:20260421T101611
CREATED:20250818T134605Z
LAST-MODIFIED:20250818T134605Z
UID:7787-1773151200-1773156600@paisleystgeorges.org.uk
SUMMARY:Friendly Hour
DESCRIPTION:Friendly Hour –
URL:http://paisleystgeorges.org.uk/event/friendly-hour-156/
LOCATION:Paisley St George’s Causeyside\, 82 Causeyside Street\, Paisley\, PA1 1YP\, United Kingdom
CATEGORIES:Friendly Hour
END:VEVENT
BEGIN:VEVENT
DTSTART;TZID=Europe/London:20260310T180000
DTEND;TZID=Europe/London:20260310T191500
DTSTAMP:20260421T101611
CREATED:20250818T104118Z
LAST-MODIFIED:20250818T104118Z
UID:7609-1773165600-1773170100@paisleystgeorges.org.uk
SUMMARY:Boys Brigade - Anchors
DESCRIPTION:The Anchors Section of the Boys  Brigade meet on Tuesdays at St George’s Causeyside at 6pmNew Boys are welcome to come along to the following sections:\nVarious activites are carried out each week depending on which section boys are in.\nAnchors meet 6:00-7:15pm\nJuniors meet Tuesday 7:00-8:30pm\nCompany meet Friday 7:30-9:30pm
URL:http://paisleystgeorges.org.uk/event/boys-brigade-anchors-139/
LOCATION:Paisley St George’s Causeyside\, 82 Causeyside Street\, Paisley\, PA1 1YP\, United Kingdom
CATEGORIES:Boys Brigade
END:VEVENT
BEGIN:VEVENT
DTSTART;TZID=Europe/London:20260310T183000
DTEND;TZID=Europe/London:20260310T200000
DTSTAMP:20260421T101611
CREATED:20250818T103348Z
LAST-MODIFIED:20250818T103348Z
UID:7532-1773167400-1773172800@paisleystgeorges.org.uk
SUMMARY:Girls Brigade
DESCRIPTION:The Girls Brigade meet on Tuesdays at Bushes Primary School\nExplorers meet 6:30-7:30pm\nJuniors meet 6:30-8:00pm\nBrigaders meet 6:30-8:00pm
URL:http://paisleystgeorges.org.uk/event/girls-brigade-142/
LOCATION:Bushes Primary School\, Grampian Avenue\,\, Paisley\, PA2 8DW\, United Kingdom
CATEGORIES:Girls Brigade
END:VEVENT
BEGIN:VEVENT
DTSTART;TZID=Europe/London:20260310T190000
DTEND;TZID=Europe/London:20260310T203000
DTSTAMP:20260421T101611
CREATED:20250818T103707Z
LAST-MODIFIED:20250818T103707Z
UID:7571-1773169200-1773174600@paisleystgeorges.org.uk
SUMMARY:Boys Brigade - Juniors
DESCRIPTION:The Anchors Section of the Boys  Brigade meet on Tuesdays at St George’s Causeyside at 6pmNew Boys are welcome to come along to the following sections:\nVarious activites are carried out each week depending on which section boys are in.\nAnchors meet 6:00-7:15pm\nJuniors meet Tuesday 7:00-8:30pm\nCompany meet Friday 7:30-9:30pm
URL:http://paisleystgeorges.org.uk/event/boys-brigade-juniors-101/
LOCATION:Paisley St George’s Causeyside\, 82 Causeyside Street\, Paisley\, PA1 1YP\, United Kingdom
CATEGORIES:Boys Brigade
END:VEVENT
END:VCALENDAR